BEGIN:VCALENDAR
VERSION:2.0
PRODID:-//La Tour Infos//Event Calendar//EN
CALSCALE:GREGORIAN
METHOD:PUBLISH
BEGIN:VEVENT
UID:874@latourinfos.com
DTSTAMP:20260424T105053Z
DTSTART:20260516T160000Z
DTEND:20260516T180000Z
SUMMARY:Cinéma - Ghost Dog
DESCRIPTION: À LA TOUR D'AIGUES, Salle culturelle PhilibertSamedi 16 Mai à 18h00En partenariat avec l'association Les Amis du Livre
GHOST DOGUn film de Jim Jarmusch
Avec Forest Whitaker, Henry Silva, John TormeyDrame, Policier - Etats-Unis - 1999 - 1h56 - À partir de 12 ansVersion restaurée 4K - Bande originale composée par R.Z.A. du Wu Tang Clan
Ghost Dog vit au-dessus du monde, au milieu d’une volée d’oiseaux, dans une cabane sur le toit d’un immeuble abandonné. Guidé par les mots d’un ancien texte samouraï, Ghost Dog est un tueur professionnel qui se fond dans la nuit et se glisse dans la ville sans qu’on le remarque. Quand son code moral est trahi par le dysfonctionnement d’une famille mafieuse qui l’emploie à l’occasion, il réagit strictement selon la Voie du Samouraï.
Dans le cadre du mois consacré à la culture Hip-Hop organisé par la Bibliothèque de La Tour d'Aigues.
LOCATION:La Tour d'Aigues
URL:https://latourinfos.com/evenements/cinema-ghost-dog-16-05-2026
END:VEVENT
END:VCALENDAR
