BEGIN:VCALENDAR
VERSION:2.0
PRODID:-//La Tour Infos//Event Calendar//EN
CALSCALE:GREGORIAN
METHOD:PUBLISH
BEGIN:VEVENT
UID:875@latourinfos.com
DTSTAMP:20260424T105004Z
DTSTART:20260429T163000Z
DTEND:20260429T183000Z
SUMMARY:Conseil municipal
DESCRIPTION: Ordre du jour

Fiscalité locale 2026
Budget primitif 2026
Partenariats et conventions (associations, tourisme…)
Aide à l’acquisition de vélos électriques
Projets et acquisitions en centre village

LOCATION:La Tour d'Aigues
URL:https://latourinfos.com/evenements/conseil-municipal-29-04-2026
END:VEVENT
END:VCALENDAR
