BEGIN:VCALENDAR
VERSION:2.0
PRODID:-//La Tour Infos//Event Calendar//EN
CALSCALE:GREGORIAN
METHOD:PUBLISH
BEGIN:VEVENT
UID:876@latourinfos.com
DTSTAMP:20260424T090143Z
DTSTART:20260510T123000Z
DTEND:20260510T163000Z
SUMMARY:Thé dansant
DESCRIPTION: 
LOCATION:La Tour d'Aigues
URL:https://latourinfos.com/evenements/the-dansant-10-05-2026
END:VEVENT
END:VCALENDAR
