BEGIN:VCALENDAR
VERSION:2.0
PRODID:-//La Tour Infos//Event Calendar//EN
CALSCALE:GREGORIAN
METHOD:PUBLISH
BEGIN:VEVENT
UID:877@latourinfos.com
DTSTAMP:20260424T104813Z
DTSTART:20260504T070000Z
DTEND:20260530T160000Z
SUMMARY:Hip-Hop, quand la rue s'exprime
DESCRIPTION: La bibliothèque propose une immersion dans la culture hip-hop avec exposition, projection, atelier d'écriture, démonstration de freestyle, initiation au graffiti ainsi que l'élaboration collective d'une fresque.
LOCATION:La Tour d'Aigues
URL:https://latourinfos.com/evenements/hip-hop-quand-la-rue-s-exprime-04-05-2026
END:VEVENT
END:VCALENDAR
