BEGIN:VCALENDAR
VERSION:2.0
PRODID:-//La Tour Infos//Event Calendar//EN
CALSCALE:GREGORIAN
METHOD:PUBLISH
BEGIN:VEVENT
UID:878@latourinfos.com
DTSTAMP:20260424T105004Z
DTSTART:20260530T080000Z
DTEND:20260530T120000Z
SUMMARY:Bourse aux livres de printemps
DESCRIPTION: La bibliothèque organise sa bourse aux livres de printemps le samedi 30 mai.
Les inscriptions sont ouvertes !
Pour participer, renseignez-vous auprès des bibliothécaires.&nbsp;
LOCATION:La Tour d'Aigues
URL:https://latourinfos.com/evenements/bourse-aux-livres-de-printemps-30-05-2026
END:VEVENT
END:VCALENDAR
