BEGIN:VCALENDAR
VERSION:2.0
PRODID:-//La Tour Infos//Event Calendar//EN
CALSCALE:GREGORIAN
METHOD:PUBLISH
BEGIN:VEVENT
UID:879@latourinfos.com
DTSTAMP:20260424T090805Z
DTSTART:20260428T163000Z
DTEND:20260428T183000Z
SUMMARY:Conseil communautaire
DESCRIPTION: Horaires : 18h30 - 20h30
Lieu : salle polyvalente à Grambois
Ordre du jour

Création de la conférence des maires
Délégations de pouvoirs du conseil communautaire au président
Désignation des administrateurs et du représentant de la Communauté de Communes Sud Luberon à la SPL Durance Pays d’Aigues
Désignation des délégués de la Communauté de Communes Sud Luberon au Syndicat Durance Luberon (SDL)
Désignation des délégués de la Communauté de Communes Sud Luberon au Syndicat Intercommunal pour l’Elimination et la Valorisation des Déchets et le Traitement des Ordures Ménagères (SIECEUTOM)
Désignation des délégués de la Communauté de Communes Sud Luberon au Syndicat Mixte du Parc Naturel Régional du Luberon (PNRL)
Fixation du produit de la taxe Gestion des Milieux Aquatiques et Prévention des Inondations (GEMAPI) pour l’année 2026
Fixation du taux de Cotisation Foncière des Entreprises (CFE) pour l’année 2026
Fixation du taux de Taxe d’Enlèvement des Ordures Ménagères (TEOM) pour l’année 2026
Fixation du taux des taxes foncières et de la taxe d’habitation sur les résidences secondaires pour l’année 2026
Questions Diverses

LOCATION:La Tour d'Aigues
URL:https://latourinfos.com/evenements/conseil-communautaire-28-04-2026
END:VEVENT
END:VCALENDAR
